BEGIN:VCALENDAR
VERSION:2.0
PRODID:-//Squarespace Inc/Squarespace 6//v6//EN
BEGIN:VEVENT
UID:5a836ea6419202c24e7648b1@squarespace.com
DTSTAMP:20180408T211206Z
DTSTART:20180411T020000Z
DTEND:20180411T030000Z
SUMMARY:Chalk Paint™ 101
GEO:-35.210214;173.91834
LOCATION:Easy Living Homestore\, 11 Klinac Lane\, Waipapa\, Northland\, 029
 5\, New Zealand
END:VEVENT
END:VCALENDAR
