BEGIN:VCALENDAR
VERSION:2.0
PRODID:-//Squarespace Inc/Squarespace 6//v6//EN
BEGIN:VEVENT
UID:5a74e65ec83025b92d9bf306@squarespace.com
DTSTAMP:20180408T211236Z
DTSTART:20180221T223000Z
DTEND:20180221T233000Z
SUMMARY:Chalk Paint™ 101
GEO:-35.210214;173.91834
LOCATION:Easy Living Homestore\, 11 Klinac Lane\, Waipapa\, Northland\, 029
 5\, New Zealand
END:VEVENT
END:VCALENDAR
